BEGIN:VCALENDAR
VERSION:2.0
PRODID:-//eventon.com NONSGML v1.0//EN
CALSCALE:GREGORIAN
METHOD:PUBLISH
BEGIN:VEVENT
UID:69e5d3e5b080b
DTSTAMP:20260420T072109Z
DTSTART:20230620
DTEND:20230621
LOCATION:
SUMMARY:Nell'impero delle misure @Da vicino nessuno è normale - TeatroLaCucina Milano
DESCRIPTION:martedì 20 giugno\,  h. 20.45 @Da vicino nessuno è normale &#
 8211; TeatroLaCucina Milano NELL&#8217;IMPERO DELLE MISURE Di e con: Fioren
 za Menni e Andrea Mochi Sismondi E con: Angela Baraldi\,  Margherita Kay Bu
 dillon e Francesca Lico Elaborazione ed esecuzione musicale: Angela Baraldi
  (voce)\,  Francesca Lico (pianoforte)\,  Fiorenza Menni (progetto sonoro) 
 e[..]\nhttps://ateliersi.it/ateliersi/events/nellimpero-delle-misure-da-vic
 ino-nessuno-e-normale-teatrolacucina-milano/
URL:https://ateliersi.it/ateliersi/events/nellimpero-delle-misure-da-vicino-nessuno-e-normale-teatrolacucina-milano/
END:VEVENT
END:VCALENDAR